BEGIN:VCALENDAR
VERSION:2.0
PRODID:-//Derin Öğrenme | Deep Learning - ECPv6.5.1.6//NONSGML v1.0//EN
CALSCALE:GREGORIAN
METHOD:PUBLISH
X-ORIGINAL-URL:https://www.derinogrenme.com
X-WR-CALDESC:Derin Öğrenme | Deep Learning için etkinlikler
REFRESH-INTERVAL;VALUE=DURATION:PT1H
X-Robots-Tag:noindex
X-PUBLISHED-TTL:PT1H
BEGIN:VTIMEZONE
TZID:Europe/Istanbul
BEGIN:DAYLIGHT
TZOFFSETFROM:+0200
TZOFFSETTO:+0300
TZNAME:EEST
DTSTART:20150329T010000
END:DAYLIGHT
BEGIN:STANDARD
TZOFFSETFROM:+0300
TZOFFSETTO:+0200
TZNAME:EET
DTSTART:20151108T010000
END:STANDARD
BEGIN:DAYLIGHT
TZOFFSETFROM:+0200
TZOFFSETTO:+0300
TZNAME:EEST
DTSTART:20160327T010000
END:DAYLIGHT
BEGIN:STANDARD
TZOFFSETFROM:+0300
TZOFFSETTO:+0300
TZNAME:+03
DTSTART:20160906T210000
END:STANDARD
END:VTIMEZONE
BEGIN:VEVENT
DTSTART;TZID=Europe/Istanbul:20180930T090000
DTEND;TZID=Europe/Istanbul:20181001T170000
DTSTAMP:20260423T213857
CREATED:20180628T105411Z
LAST-MODIFIED:20180831T081836Z
UID:2153-1538298000-1538413200@www.derinogrenme.com
SUMMARY:Embedded Sistemlerde Yapay Zeka Uygulamaları
DESCRIPTION:Bu eğitim\, otonom\, robot\, iha (drone) ve güvenlik sistemlerindeki kamera görüntülerinin NVIDIA Jetson TX1/TX2/TX2i/Xavier platformu ile gerçek zamanlı tanıma işlemini yapmak isteyen katılımcılar için hazırlanmıştır. Bu eğitimi aldıktan sonra Jetson kullanarak kameradan aldığınız görüntüleri gerçek zamanlı tanımlayabileceksiniz. Özellikle derin öğrenme uygulamaları konusunda tecrübe kazanmak ve akademik çalışma yapmak isteyenler için kaçırılmayacak bir eğitim. \nNeler Öğreneceksiniz? \n\nJetson platformlarının kabiliyetleri.\nDerin öğrenme için gerekli donanım ve yazılım altyapısını tesis etme.\nJetson’ın yapay zeka uygulamaları için hazırlanması.\nIMAGENET verisi ile sınıflandırıcı eğitimi ve resim/video üzerinde gerçek zamanlı sınıflandırıcı çalıştırılması.\nDetectNet kullanarak nesne koordinatlarını tespit etme eğitimi ve uygulaması.\nÇıkarım hızlandırıcısı olarak TensorRT kullanılması.\nÇok sınıflı modellerin çalıştırılması.\nKamera üzerinde sınıflandırıcı ve nesne tespit edici modellerin çalıştırılması.\nSegNet ile görüntü segmentasyonunun yapılması.\n\nEğitim içeriği ve diğer detaylar için tıklayın.
URL:https://www.derinogrenme.com/etkinlikler/embedded-sistemlerde-yapay-zeka-uygulamalari-2/
LOCATION:Open Zeka\, Üniversiteler Mah.\, 1605. Cad. No:3/1-Z04 06800 Çankaya\, Ankara\, 06800\, Türkiye
CATEGORIES:Embedded Sistemlerde Yapay Zeka
ATTACH;FMTTYPE=image/jpeg:https://www.derinogrenme.com/wp-content/uploads/2018/06/detectnet-peds-00.jpg
ORGANIZER;CN="Open Zeka":MAILTO:info@openzeka.com
END:VEVENT
BEGIN:VEVENT
DTSTART;TZID=Europe/Istanbul:20180929T090000
DTEND;TZID=Europe/Istanbul:20180929T180000
DTSTAMP:20260423T213857
CREATED:20180628T103359Z
LAST-MODIFIED:20180831T081829Z
UID:2151-1538211600-1538244000@www.derinogrenme.com
SUMMARY:Görüntü İşleme için Derin Öğrenmenin Temelleri
DESCRIPTION:Bu uygulamalı derste\, sinir ağlarını eğiterek ve uygulayarak derin öğrenmenin temellerini öğreneceksiniz. Ders süresince;\n– Görüntü Sınıflandırma ve Nesne Algılama gibi yaygın derin öğrenme iş akışlarını hayata geçirme\,\n– Eğitim parametreleri\, ağ yapısı\, performans ve yetenekleri arttıracak stratejiler üzerine çalışmalar ve denemeler yapma\,\n– Ağlarınızı\, gerçek dünyadaki problemleri çözmeye başlayacak şekilde uygulama imkanı bulacaksınız. \nNeler Öğreneceksiniz?\n\nBir Derin Öğrenme projesini başlatmak için gerekli içerikleri tanımlama.\nBilgisayarın daha önce hiç görmediği görüntüleri doğru şekilde sınıflandırmak için derin bir sinir ağını eğitme.\nDerin sinir ağlarını uygulamalarda çalıştırma.\nDerin öğrenme uygulamalarının performansını geliştirmek için teknikler tanımlama.\nDerin öğrenme için aday olan problem türlerini değerlendirme.\nDavranışlarını değiştirmek için sinir ağlarını modifiye etme.\n\nEğitim içeriği ve diğer detaylar için tıklayın.
URL:https://www.derinogrenme.com/etkinlikler/goruntu-isleme-icin-derin-ogrenmenin-temelleri-2/
LOCATION:Open Zeka\, Üniversiteler Mah.\, 1605. Cad. No:3/1-Z04 06800 Çankaya\, Ankara\, 06800\, Türkiye
CATEGORIES:Derin Öğrenme
ATTACH;FMTTYPE=image/jpeg:https://www.derinogrenme.com/wp-content/uploads/2018/06/Select_04_1080x1080px_PARTNER-copy.jpg
END:VEVENT
BEGIN:VEVENT
DTSTART;TZID=Europe/Istanbul:20180722T090000
DTEND;TZID=Europe/Istanbul:20180723T170000
DTSTAMP:20260423T213857
CREATED:20180628T105411Z
LAST-MODIFIED:20180628T105506Z
UID:2111-1532250000-1532365200@www.derinogrenme.com
SUMMARY:Embedded Sistemlerde Yapay Zeka Uygulamaları
DESCRIPTION:Bu eğitim\, otonom\, robot\, iha (drone) ve güvenlik sistemlerindeki kamera görüntülerinin NVIDIA Jetson TX1/TX2/TX2i/Xavier platformu ile gerçek zamanlı tanıma işlemini yapmak isteyen katılımcılar için hazırlanmıştır. Bu eğitimi aldıktan sonra Jetson kullanarak kameradan aldığınız görüntüleri gerçek zamanlı tanımlayabileceksiniz. Özellikle derin öğrenme uygulamaları konusunda tecrübe kazanmak ve akademik çalışma yapmak isteyenler için kaçırılmayacak bir eğitim. \nNeler Öğreneceksiniz? \n\nJetson platformlarının kabiliyetleri.\nDerin öğrenme için gerekli donanım ve yazılım altyapısını tesis etme.\nJetson’ın yapay zeka uygulamaları için hazırlanması.\nIMAGENET verisi ile sınıflandırıcı eğitimi ve resim/video üzerinde gerçek zamanlı sınıflandırıcı çalıştırılması.\nDetectNet kullanarak nesne koordinatlarını tespit etme eğitimi ve uygulaması.\nÇıkarım hızlandırıcısı olarak TensorRT kullanılması.\nÇok sınıflı modellerin çalıştırılması.\nKamera üzerinde sınıflandırıcı ve nesne tespit edici modellerin çalıştırılması.\nSegNet ile görüntü segmentasyonunun yapılması.\n\nEğitim içeriği ve diğer detaylar için tıklayın.
URL:https://www.derinogrenme.com/etkinlikler/embedded-sistemlerde-yapay-zeka-uygulamalari/
LOCATION:Open Zeka\, Üniversiteler Mah.\, 1605. Cad. No:3/1-Z04 06800 Çankaya\, Ankara\, 06800\, Türkiye
CATEGORIES:Embedded Sistemlerde Yapay Zeka
ATTACH;FMTTYPE=image/jpeg:https://www.derinogrenme.com/wp-content/uploads/2018/06/detectnet-peds-00.jpg
ORGANIZER;CN="Open Zeka":MAILTO:info@openzeka.com
END:VEVENT
BEGIN:VEVENT
DTSTART;TZID=Europe/Istanbul:20180721T090000
DTEND;TZID=Europe/Istanbul:20180721T180000
DTSTAMP:20260423T213857
CREATED:20180628T103359Z
LAST-MODIFIED:20180628T112709Z
UID:2107-1532163600-1532196000@www.derinogrenme.com
SUMMARY:Görüntü İşleme için Derin Öğrenmenin Temelleri
DESCRIPTION:Bu uygulamalı derste\, sinir ağlarını eğiterek ve uygulayarak derin öğrenmenin temellerini öğreneceksiniz. Ders süresince;\n– Görüntü Sınıflandırma ve Nesne Algılama gibi yaygın derin öğrenme iş akışlarını hayata geçirme\,\n– Eğitim parametreleri\, ağ yapısı\, performans ve yetenekleri arttıracak stratejiler üzerine çalışmalar ve denemeler yapma\,\n– Ağlarınızı\, gerçek dünyadaki problemleri çözmeye başlayacak şekilde uygulama imkanı bulacaksınız. \nNeler Öğreneceksiniz?\n\nBir Derin Öğrenme projesini başlatmak için gerekli içerikleri tanımlama.\nBilgisayarın daha önce hiç görmediği görüntüleri doğru şekilde sınıflandırmak için derin bir sinir ağını eğitme.\nDerin sinir ağlarını uygulamalarda çalıştırma.\nDerin öğrenme uygulamalarının performansını geliştirmek için teknikler tanımlama.\nDerin öğrenme için aday olan problem türlerini değerlendirme.\nDavranışlarını değiştirmek için sinir ağlarını modifiye etme.\n\nEğitim içeriği ve diğer detaylar için tıklayın.
URL:https://www.derinogrenme.com/etkinlikler/goruntu-isleme-icin-derin-ogrenmenin-temelleri/
LOCATION:Open Zeka\, Üniversiteler Mah.\, 1605. Cad. No:3/1-Z04 06800 Çankaya\, Ankara\, 06800\, Türkiye
CATEGORIES:Derin Öğrenme
ATTACH;FMTTYPE=image/jpeg:https://www.derinogrenme.com/wp-content/uploads/2018/06/Select_04_1080x1080px_PARTNER-copy.jpg
END:VEVENT
BEGIN:VEVENT
DTSTART;TZID=Europe/Istanbul:20180712T093000
DTEND;TZID=Europe/Istanbul:20180712T120000
DTSTAMP:20260423T213857
CREATED:20180703T203541Z
LAST-MODIFIED:20180703T212856Z
UID:2135-1531387800-1531396800@www.derinogrenme.com
SUMMARY:NVIDIA Jetson Ankara Meetup: AI at the Edge for Robotics & Smart Cities
DESCRIPTION:Agenda \n09.30 Registrations\, treats\, pastries and tea \n10.10 Welcome – Open Zeka (Bilkent Cyberpark) \n10.20 Welcome – NVIDIA – Eddie Seymour \n11.00 Coffee – Tea Break \n11.15 Jetson Demos by OpenZeka \n11.30 Company Demos\n \n11.59 Close \nJetson Demos \n\nDeepStream\nJetson Inference\nTensorRT\nYOLO V3\nOpenPose\nTensorflow Object Dectection API\nMultimedia API\nVisionworks 1.6\nOpenZeka MARC
URL:https://www.derinogrenme.com/etkinlikler/nvidia-jetson-ankara-meetup-ai-at-the-edge-for-robotics-smart-cities/
LOCATION:Bilkent Cyberpark Cyberplaza Konferans Salonu\, Üniversiteler Mh.\, 1606 Cadde Cyber Plaza B Blok\, Cankaya\, 06800\, Türkiye
CATEGORIES:Embedded Sistemlerde Yapay Zeka
ATTACH;FMTTYPE=image/jpeg:https://www.derinogrenme.com/wp-content/uploads/2018/07/nvidia-isaac-625-ut@2x-2-e1530648866237.jpg
END:VEVENT
BEGIN:VEVENT
DTSTART;TZID=Europe/Istanbul:20171020T140000
DTEND;TZID=Europe/Istanbul:20171020T170000
DTSTAMP:20260423T213857
CREATED:20171011T183208Z
LAST-MODIFIED:20171011T183208Z
UID:1723-1508508000-1508518800@www.derinogrenme.com
SUMMARY:Gazi Üniversitesi Derin Öğrenme Atölyesi
DESCRIPTION:Detay için: https://openzeka.com/2017/10/02/gazi-universitesi-derin-ogrenme-atolyesi/
URL:https://www.derinogrenme.com/etkinlikler/gazi-universitesi-derin-ogrenme-atolyesi/
LOCATION:Gazi Üniversitesi Mühendislik Fakültesi\, Maltepe Mahallesi\, Eti Mh.\, Yükseliş Sokak\, No:5\,\, Ankara\, Türkiye
CATEGORIES:Derin Öğrenme
END:VEVENT
BEGIN:VEVENT
DTSTART;VALUE=DATE:20170923
DTEND;VALUE=DATE:20170925
DTSTAMP:20260423T213857
CREATED:20170909T131328Z
LAST-MODIFIED:20170909T131700Z
UID:1699-1506124800-1506297599@www.derinogrenme.com
SUMMARY:Derin Öğrenme Eğitimi - Ankara
DESCRIPTION:Detaylar ve kayıt için: https://embedded.openzeka.com/urun/derin-ogrenme-egitimi-ankara/
URL:https://www.derinogrenme.com/etkinlikler/derin-ogrenme-egitimi-ankara/
LOCATION:Open Zeka\, Üniversiteler Mah.\, 1605. Cad. No:3/1-Z04 06800 Çankaya\, Ankara\, 06800\, Türkiye
CATEGORIES:Derin Öğrenme
ORGANIZER;CN="Open Zeka":MAILTO:info@openzeka.com
END:VEVENT
BEGIN:VEVENT
DTSTART;VALUE=DATE:20170812
DTEND;VALUE=DATE:20170814
DTSTAMP:20260423T213857
CREATED:20170713T094838Z
LAST-MODIFIED:20170713T094838Z
UID:1669-1502496000-1502668799@www.derinogrenme.com
SUMMARY:İstanbul Derin Öğrenme Eğitimi
DESCRIPTION:Detaylar için: https://embedded.openzeka.com/urun/derin-ogrenme-egitimi-istanbul/
URL:https://www.derinogrenme.com/etkinlikler/istanbul-derin-ogrenme-egitimi/
LOCATION:TTGV İstanbul Ofisi\, TÜ Ayazağa Yerleşkesi Arı Teknokent Arı II Binası Koruyolu A Blok Kat:7 Maslak-Sarıyer\,  İSTANBUL\, Türkiye
CATEGORIES:Derin Öğrenme
ORGANIZER;CN="Open Zeka":MAILTO:info@openzeka.com
END:VEVENT
BEGIN:VEVENT
DTSTART;VALUE=DATE:20170729
DTEND;VALUE=DATE:20170731
DTSTAMP:20260423T213857
CREATED:20170713T094506Z
LAST-MODIFIED:20170713T094856Z
UID:1666-1501286400-1501459199@www.derinogrenme.com
SUMMARY:Ankara Derin Öğrenme Eğitimi
DESCRIPTION:Detaylar için: https://embedded.openzeka.com/urun/derin-ogrenme-egitimi-ankara/
URL:https://www.derinogrenme.com/etkinlikler/ankara-derin-ogrenme-egitimi/
LOCATION:Open Zeka\, Üniversiteler Mah.\, 1605. Cad. No:3/1-Z04 06800 Çankaya\, Ankara\, 06800\, Türkiye
CATEGORIES:Derin Öğrenme
ORGANIZER;CN="Open Zeka":MAILTO:info@openzeka.com
END:VEVENT
BEGIN:VEVENT
DTSTART;TZID=Europe/Istanbul:20170426T143000
DTEND;TZID=Europe/Istanbul:20170426T160000
DTSTAMP:20260423T213857
CREATED:20170410T222904Z
LAST-MODIFIED:20170410T222904Z
UID:1543-1493217000-1493222400@www.derinogrenme.com
SUMMARY:Iot ve Derin Öğrenme
DESCRIPTION:Etkinlik tarihi: 26 Nisan 2016 \nSaat: 14.30-16.00 \nYer: TTGV Kıvılcım – Ankara \nKayıt Adresi: https://www.eventbrite.com/e/iotxtr-40-iot-ve-derin-ogrenme-ankara-tickets-33485393714 \nDerin öğrenme; makinelerin insan algısına yakın doğrulukta görmesini\, duymasını ve veri analizi yapmasını mümkün kılan bir yapay zeka yaklaşımıdır. Son 5 yıl içinde hızlı bir şekilde gelişmiş ve günlük hayatımızdaki birçok alana girmiştir. Derin öğrenme özellikle akıllı görüntü analizi\, otonom araç\, robotik\, büyük veri analizi gibi alanlarda yapay zeka kullanımını kolaylaştırmıştır. Bu sunumda IoT platformları için derin öğrenme kullanan uygulamaların nasıl geliştirileceği uçtan uca çözüm mantığıyla anlatılacaktır. \nEtkinlik programı: \n14:30 – 15:00 Tanışma-Kaynaşma \n15:00 – 15:05 IoTxTR Tanıtımı\, Sibel Eşder @ IoTxTR \n15:05 – 16:00 “IoT ve Derin Öğrenme”\, Ferhat Kurt\, Founder @ Open Zeka Bilgi Teknolojileri \n16:00 – 16:15 Soru & Cevap
URL:https://www.derinogrenme.com/etkinlikler/iot-derin-ogrenme/
LOCATION:TTGV Kıvılcım Ankara
CATEGORIES:Derin Öğrenme
END:VEVENT
BEGIN:VEVENT
DTSTART;VALUE=DATE:20170408
DTEND;VALUE=DATE:20170410
DTSTAMP:20260423T213857
CREATED:20170314T001356Z
LAST-MODIFIED:20170314T001356Z
UID:1516-1491609600-1491782399@www.derinogrenme.com
SUMMARY:Derin Öğrenme Eğitimi – İstanbul (8-9 Nisan)
DESCRIPTION:NVIDIA Sertifikalı Derin öğrenme Uzmanı olmak için 2 günlük eğitimimizi kaçırmayın!\nDetaylar için:https://embedded.openzeka.com/urun/derin-ogrenme-egitimi-istanbul/
URL:https://www.derinogrenme.com/etkinlikler/derin-ogrenme-egitimi-istanbul-8-9-nisan/
LOCATION:TTGV İstanbul Ofisi\, TÜ Ayazağa Yerleşkesi Arı Teknokent Arı II Binası Koruyolu A Blok Kat:7 Maslak-Sarıyer\,  İSTANBUL\, Türkiye
CATEGORIES:Derin Öğrenme
ORGANIZER;CN="Open Zeka":MAILTO:info@openzeka.com
END:VEVENT
BEGIN:VEVENT
DTSTART;VALUE=DATE:20170325
DTEND;VALUE=DATE:20170327
DTSTAMP:20260423T213857
CREATED:20170314T000849Z
LAST-MODIFIED:20170314T000929Z
UID:1508-1490400000-1490572799@www.derinogrenme.com
SUMMARY:Derin Öğrenme Eğitimi – Ankara (25-26 Mart)
DESCRIPTION:NVIDIA Sertifikalı Derin öğrenme Uzmanı olmak için 2 günlük eğitimimizi kaçırmayın!\nDetaylar için:https://embedded.openzeka.com/urun/derin-ogrenme-egitimi-ankara/
URL:https://www.derinogrenme.com/etkinlikler/derin-ogrenme-egitimi-ankara-25-26-mart/
LOCATION:Open Zeka\, Beştepe Mahallesi Nergiz Sokak No:7/2/27-28\, 06560 Yenimahalle\, Ankara\, 06560\, Türkiye
CATEGORIES:Derin Öğrenme
ORGANIZER;CN="Open Zeka":MAILTO:info@openzeka.com
END:VEVENT
BEGIN:VEVENT
DTSTART;TZID=Europe/Istanbul:20170210T093000
DTEND;TZID=Europe/Istanbul:20170211T170000
DTSTAMP:20260423T213857
CREATED:20170126T195955Z
LAST-MODIFIED:20170126T200213Z
UID:1371-1486719000-1486832400@www.derinogrenme.com
SUMMARY:Derin Öğrenme Eğitimi İstanbul – 1. Dönem
DESCRIPTION:Yer: İstanbul (TTGV İstanbul Ofisi – Salon sponsoru)\nTarih: 11-12 Şubat 2017\nSüre: 12 saat\nKontenjan: 14 kişi\n \nHızlı Derin Öğrenme Uzmanı Yetiştirme Eğitimi derin öğrenme alanında 2 yılı aşkın süredir çalışan Open Zeka ekibi tarafından verilecektir. Open Zeka firması hem NIVIDA Embedded Türkiye Partneri hem de NVIDIA Inception Programına dünya genelinde dahil olmuş ilk 100 şirket arasında yer almaktadır (Program üyesi ilk Türk şirketidir). \nHızlı Derin Öğrenme Uzmanı Yetiştirme Eğitimi özellikle görüntü ve metin analizi alanında yapay zeka kullanan ürünler geliştirmek isteyen kullanıcılara hitaben hazırlanmıştır. Bu eğitim sonucunda katılımcılar sadece normal görüntü analizi değil ayrıca otonom araçların nasıl gördüğü\, medikal görüntü analizi gibi ileri seviye uygulamaları geliştirme yetkinliğine kavuşacaktır. Eğitime katılan kullanıcılara kendi dizüstü bilgisayarlarından Open Zeka tarafından eğitim için hazırlanan yüksek işlem gücüne sahip derin öğrenme bilgisayarlarına erişim verilecektir. \n2 gün 12 saat sürecek eğitimin 8 saatlik kısmı uygulamaya dönüktür. Eğitim sonrasında kullanılan dokümanlar katılımcılara verilecektir. Ayrıca katılımcılara eğitim katılım belgesi verilecek olup dileyen katılımcılar Open Zeka Derin Öğrenme Uzmanı sayfasında listelenme hakkı kazanacaktır.
URL:https://www.derinogrenme.com/etkinlikler/derin-ogrenme-egitimi-istanbul-1-donem/
LOCATION:TTGV İstanbul Ofisi\, TÜ Ayazağa Yerleşkesi Arı Teknokent Arı II Binası Koruyolu A Blok Kat:7 Maslak-Sarıyer\,  İSTANBUL\, Türkiye
CATEGORIES:Derin Öğrenme
ATTACH;FMTTYPE=image/png:https://www.derinogrenme.com/wp-content/uploads/2017/01/nesn_tespiti.png
ORGANIZER;CN="Open Zeka":MAILTO:info@openzeka.com
END:VEVENT
BEGIN:VEVENT
DTSTART;VALUE=DATE:20160602
DTEND;VALUE=DATE:20160603
DTSTAMP:20260423T213857
CREATED:20160512T081804Z
LAST-MODIFIED:20160512T082001Z
UID:1118-1464825600-1464911999@www.derinogrenme.com
SUMMARY:Dijital 2.0 - Akıllı sistemler için OpenZeka
DESCRIPTION:Etkinlik kapsamında “Akıllı Sistemler için OpenZeka” konulu sunum 13.00-13.15 arasında yapılacaktır. Etkinlikle ilgili kısa bilgi aşağıda yer almaktadır. \nDijital teknolojiler dört bir yanımızı sarmıştır. Mobil cihazlar herkesin cebindedir\, 7’den 70’e. Artık hiç elimizden düşmüyorlar\, konuşmak\, oyun oynamak\, araştırmak\, sosyalleşmek\, eş bulmak\, yol bulmak ve daha nice ihtiyaçlarımızı buradan karşılıyoruz. \nNesnelerin interneti baş döndürücü bir hızla ilerlemektedir. Araçlar\, evler\, ofisler\, yollar\, fabrikalar\, okullar\, hastaneler\, mağazalar\, kamu kurumları ve daha nice mekanlar ve eşyalar büyük internete bağlanmaktadır. \nBu nesnelere boş durmamaktadır. Pek çoğu kesintisiz veri üretmektedir. Statü verileri\, sensör verileri\, lokasyon verileri\, ve daha nice çeşit veriler. Bunlar internet aracılığıyla çoğu zaman büyük bulutta bir yerlere kaydedilmektedir. Senaryosuna göre bir takım aksiyonlar alınmaktadır veya başka işlemler tetiklenmektedir.
URL:https://www.derinogrenme.com/etkinlikler/dijital-2-0/
LOCATION:Sabancı Center\, Konaklar\, Beşiktaş\, İstanbul\, 34330\, Türkiye
CATEGORIES:Derin Öğrenme
END:VEVENT
BEGIN:VEVENT
DTSTART;TZID=Europe/Istanbul:20160514T110000
DTEND;TZID=Europe/Istanbul:20160514T114500
DTSTAMP:20260423T213857
CREATED:20160512T080743Z
LAST-MODIFIED:20160512T080743Z
UID:1115-1463223600-1463226300@www.derinogrenme.com
SUMMARY:Eskişehir Osmangazi Üniversitesi Bilişim Günleri – Derin Öğrenme Sunumu
DESCRIPTION:Eskişehir Osmangazi Üniversitesi Bilgisayar ve Bilişim Teknolojileri Kulübü tarafından düzenlenen Ogü Bilişim Günleri 14-15 Mayıs 2016 tarihlerinde icra edilecek. Söz konusu etkinlik kapsamında 14 Mayıs 2016 günü 11.00-11.45 saatleri arasında “Derin Öğrenme” konulu sunum gerçekleştireceğim. Detaylı bilgi için: http://www.bbtk.ogu.edu.tr
URL:https://www.derinogrenme.com/etkinlikler/eskisehir-osmangazi-universitesi-bilisim-gunleri-derin-ogrenme-sunumu/
LOCATION:Osmangazi Üniversitesi\, Eskişehir\, Türkiye
CATEGORIES:Derin Öğrenme
END:VEVENT
BEGIN:VEVENT
DTSTART;VALUE=DATE:20160128
DTEND;VALUE=DATE:20160130
DTSTAMP:20260423T213857
CREATED:20150812T192526Z
LAST-MODIFIED:20150812T192526Z
UID:489-1453939200-1454111999@www.derinogrenme.com
SUMMARY:Deep Learning Summit 2016
DESCRIPTION:
URL:https://www.derinogrenme.com/etkinlikler/deep-learning-summit-2016/
LOCATION:Terra Gallery & Event Venue\, 511 Harrison Street\, San Francisco\, CA\, 94105\, ABD
CATEGORIES:Derin Öğrenme
END:VEVENT
BEGIN:VEVENT
DTSTART;TZID=Europe/Istanbul:20160118T190000
DTEND;TZID=Europe/Istanbul:20160118T210000
DTSTAMP:20260423T213857
CREATED:20160111T225431Z
LAST-MODIFIED:20160111T225431Z
UID:860-1453143600-1453150800@www.derinogrenme.com
SUMMARY:Derin Öğrenme Akademik Çalışma Grubu Toplantısı
DESCRIPTION:Derin öğrenme alanında akademik çalışma yapan ve yapmayı planlayan üyelerimiz (Akademisyen\, yüksek lisans ve doktora öğrencisi) etkinliğe katılım sağlayabilir. \nSıcak bir ortamda icra edilecek etkinliğe katılımcı sayısı 7 kişi ile sınırlandırılmıştır. Lütfen katılım durumunuzu belirttikten sonra http://www.derinogrenme.com/iletisim/ adresinden size ulaşabileceğimiz iletişim bilgilerini bize gönderiniz. \nEtkinlikte tanışma faslından sonra katılımcıların yürüttüğü/planladığı çalışmalar ve  çalışmalara nasıl katkı sağlanabileceği konuları görüşülecektir. \nEtkinlik Yeri : http://bit.ly/1RiHM9l
URL:https://www.derinogrenme.com/etkinlikler/derin-ogrenme-akademik-calisma-grubu-toplantisi/
LOCATION:Urban Station Ankara\, Beştepeler Mah. Nergis Sok. No: 7/2 Sögütözü\, Ankara\, Türkiye
CATEGORIES:Derin Öğrenme
END:VEVENT
BEGIN:VEVENT
DTSTART;TZID=Europe/Istanbul:20160109T093000
DTEND;TZID=Europe/Istanbul:20160109T120000
DTSTAMP:20260423T213857
CREATED:20151207T232313Z
LAST-MODIFIED:20151207T232835Z
UID:832-1452331800-1452340800@www.derinogrenme.com
SUMMARY:Ankara Derin Öğrenme Eğitimi 4
DESCRIPTION:Saat\nKonu\n\n\n\n09:30-10:10\nTorch Framework’e Giriş\n\n\n10:10-10:30\nÇay-Kahve Arası\n\n\n10:30-11:00\nGPU Hızlandırıcı Platformları 4\n\n\n11:00-11:20\nÇay-Kahve Arası\n\n\n11:20-12:00\nGoogle TensorFlow Framework’e Giriş\n\n\n\nDetaylı bilgi için: http://www.derinogrenme.com/2015/11/26/derin-ogrenme-egitim-serisi-basliyor/
URL:https://www.derinogrenme.com/etkinlikler/ankara-derin-ogrenme-egitimi-4/
LOCATION:Hacettepe Teknokent\, 1. Arge Binası\, Çankaya\, Ankara\, Türkiye
CATEGORIES:Derin Öğrenme Dersi
END:VEVENT
BEGIN:VEVENT
DTSTART;TZID=Europe/Istanbul:20151226T093000
DTEND;TZID=Europe/Istanbul:20151226T120000
DTSTAMP:20260423T213857
CREATED:20151207T232041Z
LAST-MODIFIED:20151207T232956Z
UID:831-1451122200-1451131200@www.derinogrenme.com
SUMMARY:Ankara Derin Öğrenme Eğitimi 3
DESCRIPTION:Saat\nKonu\n\n\n\n09:30-10:10\nTheano Framework’e Giriş 1\n\n\n10:10-10:30\nÇay-Kahve Arası\n\n\n10:30-11:00\nGPU Hızlandırıcı Platformları 3\n\n\n11:00-11:20\nÇay-Kahve Arası\n\n\n11:20-12:00\nTheano Framework’e Giriş 2\n\n\n\nDetaylı bilgi için: http://www.derinogrenme.com/2015/11/26/derin-ogrenme-egitim-serisi-basliyor/
URL:https://www.derinogrenme.com/etkinlikler/ankara-derin-ogrenme-egitimi-3/
LOCATION:Hacettepe Teknokent\, 1. Arge Binası\, Çankaya\, Ankara\, Türkiye
CATEGORIES:Derin Öğrenme Dersi
END:VEVENT
BEGIN:VEVENT
DTSTART;TZID=Europe/Istanbul:20151212T093000
DTEND;TZID=Europe/Istanbul:20151212T120000
DTSTAMP:20260423T213857
CREATED:20151207T231619Z
LAST-MODIFIED:20151207T233020Z
UID:830-1449912600-1449921600@www.derinogrenme.com
SUMMARY:Ankara Derin Öğrenme Eğitimi 2
DESCRIPTION:Saat\nKonu\n\n\n\n09:30-10:10\nCaffe Framework’e Giriş 1\n\n\n10:10-10:30\nÇay-Kahve Arası\n\n\n10:30-11:00\nGPU Hızlandırıcı Platformları 2\n\n\n11:00-11:20\nÇay-Kahve Arası\n\n\n11:20-12:00\nCaffe Framework’e Giriş 2\n\n\n\nDetaylı bilgi için: http://www.derinogrenme.com/2015/11/26/derin-ogrenme-egitim-serisi-basliyor/
URL:https://www.derinogrenme.com/etkinlikler/ankara-derin-ogrenme-egitimi-2/
LOCATION:Hacettepe Teknokent\, 1. Arge Binası\, Çankaya\, Ankara\, Türkiye
CATEGORIES:Derin Öğrenme Dersi
END:VEVENT
BEGIN:VEVENT
DTSTART;TZID=Europe/Istanbul:20151128T093000
DTEND;TZID=Europe/Istanbul:20151128T120000
DTSTAMP:20260423T213857
CREATED:20151207T231113Z
LAST-MODIFIED:20151207T232615Z
UID:826-1448703000-1448712000@www.derinogrenme.com
SUMMARY:Ankara Derin Öğrenme Eğitimi 1
DESCRIPTION:Saat\nKonu\n\n\n\n09:30-10:10\nConvolutional Neural Network\n\n\n10:10-10:30\nÇay-Kahve Arası\n\n\n10:30-11:00\nGPU Hızlandırıcı Platformları 1\n\n\n11:00-11:20\nÇay-Kahve Arası\n\n\n11:20-12:00\nNVIDIA DIGITS ile Derin Öğrenme Kullanımına Giriş\n\n\n\nDetaylı bilgi için: http://www.derinogrenme.com/2015/11/26/derin-ogrenme-egitim-serisi-basliyor/
URL:https://www.derinogrenme.com/etkinlikler/ankara-derin-ogrenme-egitimi-1/
LOCATION:Hacettepe Teknokent\, 1. Arge Binası\, Çankaya\, Ankara\, Türkiye
CATEGORIES:Derin Öğrenme Dersi
END:VEVENT
BEGIN:VEVENT
DTSTART;TZID=Europe/Istanbul:20151013T190000
DTEND;TZID=Europe/Istanbul:20151013T210000
DTSTAMP:20260423T213857
CREATED:20150920T083814Z
LAST-MODIFIED:20150920T083814Z
UID:618-1444762800-1444770000@www.derinogrenme.com
SUMMARY:Ankara Deep Learning Meetup
DESCRIPTION:Derin Öğrenme Nedir? konulu toplantı 13 Ekim 2015 saat 19:00’da Hacettepe Teknokent Safir Bloklar Konferans Salonunda icra edilecektir.
URL:https://www.derinogrenme.com/etkinlikler/ankara-deep-learning-meetup/
LOCATION:Hacettepe Teknokent\, 1. Arge Binası\, Çankaya\, Ankara\, Türkiye
CATEGORIES:Derin Öğrenme
END:VEVENT
BEGIN:VEVENT
DTSTART;TZID=Europe/Istanbul:20150923T190000
DTEND;TZID=Europe/Istanbul:20150923T200000
DTSTAMP:20260423T213857
CREATED:20150725T155712Z
LAST-MODIFIED:20150725T155712Z
UID:275-1443034800-1443038400@www.derinogrenme.com
SUMMARY:Ücretsiz Online Derin Öğrenme Dersi #5 Çalışma Saati
DESCRIPTION:Ders #5 için Çalışma Saatleri (1 saatlik Soru&Cevap)\nDetaylı bilgi ve derse katılım için tıklayınız.
URL:https://www.derinogrenme.com/etkinlikler/ucretsiz-online-derin-ogrenme-dersi-5-calisma-saati/
CATEGORIES:Derin Öğrenme Dersi
END:VEVENT
BEGIN:VEVENT
DTSTART;VALUE=DATE:20150922
DTEND;VALUE=DATE:20150923
DTSTAMP:20260423T213857
CREATED:20150725T144843Z
LAST-MODIFIED:20150725T150329Z
UID:260-1442880000-1442966399@www.derinogrenme.com
SUMMARY:NVIDIA Deep Learning Summit - Almanya
DESCRIPTION:
URL:https://www.derinogrenme.com/etkinlikler/nvidia-deep-learning-summit-almanya/
CATEGORIES:Derin Öğrenme
END:VEVENT
BEGIN:VEVENT
DTSTART;TZID=Europe/Istanbul:20150916T190000
DTEND;TZID=Europe/Istanbul:20150916T200000
DTSTAMP:20260423T213857
CREATED:20150725T155507Z
LAST-MODIFIED:20150725T155757Z
UID:274-1442430000-1442433600@www.derinogrenme.com
SUMMARY:Ücretsiz Online Derin Öğrenme Dersi #5 – Torch Yapısına Başlangıç Rehberi
DESCRIPTION:Ders #5 – Torch Yapısına Başlangıç Rehberi\nDetaylı bilgi ve derse katılım için tıklayınız.
URL:https://www.derinogrenme.com/etkinlikler/ucretsiz-online-derin-ogrenme-dersi-5-torch-yapisina-baslangic-rehberi/
CATEGORIES:Derin Öğrenme Dersi
END:VEVENT
BEGIN:VEVENT
DTSTART;TZID=Europe/Istanbul:20150909T190000
DTEND;TZID=Europe/Istanbul:20150909T200000
DTSTAMP:20260423T213857
CREATED:20150725T155302Z
LAST-MODIFIED:20150725T155302Z
UID:273-1441825200-1441828800@www.derinogrenme.com
SUMMARY:Ücretsiz Online Derin Öğrenme Dersi #4 Çalışma Saati
DESCRIPTION:Ders #4 için Çalışma Saatleri (1 saatlik Soru&Cevap)\nDetaylı bilgi ve derse katılım için tıklayınız.
URL:https://www.derinogrenme.com/etkinlikler/ucretsiz-online-derin-ogrenme-dersi-4-calisma-saati/
CATEGORIES:Derin Öğrenme Dersi
END:VEVENT
BEGIN:VEVENT
DTSTART;VALUE=DATE:20150907
DTEND;VALUE=DATE:20150911
DTSTAMP:20260423T213857
CREATED:20150816T214411Z
LAST-MODIFIED:20150816T214411Z
UID:548-1441584000-1441929599@www.derinogrenme.com
SUMMARY:26th British Machine Vision Conference
DESCRIPTION:
URL:https://www.derinogrenme.com/etkinlikler/26th-british-machine-vision-conference/
END:VEVENT
BEGIN:VEVENT
DTSTART;TZID=Europe/Istanbul:20150902T190000
DTEND;TZID=Europe/Istanbul:20150902T200000
DTSTAMP:20260423T213857
CREATED:20150725T155119Z
LAST-MODIFIED:20150725T155119Z
UID:271-1441220400-1441224000@www.derinogrenme.com
SUMMARY:Ücretsiz Online Derin Öğrenme Dersi #4 – Theano Yapısına Başlangıç Rehberi
DESCRIPTION:Ders #4 – Theano Yapısına Başlangıç Rehberi\nDetaylı bilgi ve derse katılım için tıklayınız.
URL:https://www.derinogrenme.com/etkinlikler/ucretsiz-online-derin-ogrenme-dersi-4-theano-yapisina-baslangic-rehberi/
CATEGORIES:Derin Öğrenme Dersi
END:VEVENT
BEGIN:VEVENT
DTSTART;TZID=Europe/Istanbul:20150826T190000
DTEND;TZID=Europe/Istanbul:20150826T200000
DTSTAMP:20260423T213857
CREATED:20150725T154907Z
LAST-MODIFIED:20150725T154907Z
UID:270-1440615600-1440619200@www.derinogrenme.com
SUMMARY:Ücretsiz Online Derin Öğrenme Dersi #3 Çalışma Saati
DESCRIPTION:Ders #3 için Çalışma Saatleri (1 saatlik Soru&Cevap)\nDetaylı bilgi ve derse katılım için tıklayınız.
URL:https://www.derinogrenme.com/etkinlikler/ucretsiz-online-derin-ogrenme-dersi-3-calisma-saati/
CATEGORIES:Derin Öğrenme Dersi
END:VEVENT
BEGIN:VEVENT
DTSTART;TZID=Europe/Istanbul:20150819T190000
DTEND;TZID=Europe/Istanbul:20150819T200000
DTSTAMP:20260423T213857
CREATED:20150725T154522Z
LAST-MODIFIED:20150725T154725Z
UID:269-1440010800-1440014400@www.derinogrenme.com
SUMMARY:Ücretsiz Online Derin Öğrenme Dersi #3 – Caffe Yapısına Başlangıç Rehberi
DESCRIPTION:Ders #3 – Caffe Yapısına Başlangıç Rehberi\nDetaylı bilgi ve derse katılım için tıklayınız.
URL:https://www.derinogrenme.com/etkinlikler/ucretsiz-online-derin-ogrenme-ders-3-caffe-yapisina-baslangic-rehberi/
CATEGORIES:Derin Öğrenme Dersi
END:VEVENT
END:VCALENDAR